BEGIN:VCALENDAR
VERSION:2.0
PRODID:-//eventon.com NONSGML v1.0//EN
CALSCALE:GREGORIAN
METHOD:PUBLISH
BEGIN:VEVENT
UID:69e7a7318b1ed
DTSTAMP:20260421T163457
DTSTART:20250526
DTEND:20250527
TZID:Asia/Hong_Kong
LOCATION:
SUMMARY:麥當勞叔叔之家-重症兒童 (2025-05-27)
DESCRIPTION: 「凡你們對我這些最小兄弟中的一個所做的，就是對我做的。 」( 瑪 25:40) 為配合堂區百周年紀念[..]\nhttps://smc100.catholic.org.hk/events/smc100-rmhc-20250527/
URL:https://smc100.catholic.org.hk/events/smc100-rmhc-20250527/
END:VEVENT
END:VCALENDAR