BEGIN:VCALENDAR
VERSION:2.0
PRODID:-//eventon.com NONSGML v1.0//EN
CALSCALE:GREGORIAN
METHOD:PUBLISH
BEGIN:VEVENT
UID:69e7be5119625
DTSTAMP:20260421T181337
DTSTART:20250928T063000Z
DTEND:20250928T083000Z
TZID:Asia/Hong_Kong
LOCATION:聖瑪加利大堂 
SUMMARY:每月靈修及明供聖體
DESCRIPTION: 活動日期：2025年9月28日 「能與耶穌共處、像祂所愛的那位門徒一樣，靠在耶穌懷裡（參若十三 25[..]\nhttps://smc100.catholic.org.hk/events/smc100-bible-homily-202509/
URL:https://smc100.catholic.org.hk/events/smc100-bible-homily-202509/
END:VEVENT
END:VCALENDAR